BEGIN:VCALENDAR
VERSION:2.0
PRODID:-//wp-events-plugin.com//7.2.3.1//EN
TZID:America/New_York
X-WR-TIMEZONE:America/New_York
BEGIN:VEVENT
UID:1@blwc21.com
DTSTART;TZID=America/New_York:20190919T080000
DTEND;TZID=America/New_York:20190921T170000
DTSTAMP:20190817T232433Z
URL:https://blwc21.com/events/trailblazer-conference/
SUMMARY:Trailblazer Conference
DESCRIPTION:Spiritual Workshop: Journey to Boldher\nTired of talking yourse
 lf out of the life you desire? It’s time to eliminate those thought patt
 erns and behaviors that get you stuck dead in your tracks. Learn to activa
 te the boldness within you so you can shake off fear\, step into action\, 
 and get the life of your dreams.\nAbout the Trailblazer Conference\nKnowin
 g from experience the weight and challenges entrepreneurs face. The Trailb
 lazer Conference was designed and is providing a holistic gathering. That
 ’s right\, a NO FLUFF SAFE SPACE for female entrepreneurs to learn\, gro
 w and connect. They believe it is important as trailblazers to be poured b
 ack into every area of life so we can be empowered holistically to live ab
 undantly and excel in business.\n\nThis 3-day conference will cover the ar
 eas of Personal Development\, Finances\, Boss Talk (Entrepreneurship)\, Re
 lationships\, and Spiritual Empowerment. Featuring Dynamic Keynotes\, Empo
 wering Seminar Speakers\, and Panelists who represent different levels and
  industries of entrepreneurship.\n\nWe welcome you to join us September 19
 -21st in Atlanta GA for 3 power-packed days.\n\nBook your ticket today\n\n
ATTACH;FMTTYPE=image/jpeg:https://i0.wp.com/blwc21.com/wp-content/uploads/
 2019/07/TB-BANNER-1.png?fit=820%2C312&ssl=1
CATEGORIES:Speaker,Vendor
LOCATION:APEX Everywhere\, 970 Pointe South Parkway\, Jonesboro\, GA\, 3023
 8\, United States
X-APPLE-STRUCTURED-LOCATION;VALUE=URI;X-ADDRESS=970 Pointe South Parkway\, 
 Jonesboro\, GA\, 30238\, United States;X-APPLE-RADIUS=100;X-TITLE=APEX Eve
 rywhere:geo:0,0
END:VEVENT
BEGIN:VEVENT
UID:3@blwc21.com
DTSTART;TZID=America/New_York:20190927T190000
DTEND;TZID=America/New_York:20190927T210000
DTSTAMP:20190817T232127Z
URL:https://blwc21.com/events/womens-empowerment-night/
SUMMARY:Women's Empowerment Night
DESCRIPTION:\n\nHey y’all!!!!!! I’m coming to Kansas City\, Kansas City
  here I come!\nFirst Lady Ann Cobbins from Canaan Worship Center is hostin
 g their Women’s Empowerment Night.\n\nCome join us as we press into the 
 power of God. Everything you need is in this night.\n\nThis is a free even
 t.\n5333 E Bannister Rd\nKansas City\, MO 64137
ATTACH;FMTTYPE=image/jpeg:https://i0.wp.com/blwc21.com/wp-content/uploads/
 2019/08/Kimberly-M-James-Womens-Empowerment-Event.jpg?fit=1125%2C778&ssl=1
CATEGORIES:Speaker,Vendor
LOCATION:Canaan Worship Center\, 5333 E Bannister Rd\, Kansas City\, MO\, 6
 4137\, United States
X-APPLE-STRUCTURED-LOCATION;VALUE=URI;X-ADDRESS=5333 E Bannister Rd\, Kansa
 s City\, MO\, 64137\, United States;X-APPLE-RADIUS=100;X-TITLE=Canaan Wors
 hip Center:geo:0,0
END:VEVENT
BEGIN:VTIMEZONE
TZID:America/New_York
X-LIC-LOCATION:America/New_York
BEGIN:DAYLIGHT
DTSTART:20190310T030000
TZOFFSETFROM:-0500
TZOFFSETTO:-0400
TZNAME:EDT
END:DAYLIGHT
END:VTIMEZONE
END:VCALENDAR